BEGIN:VCALENDAR
VERSION:2.0
PRODID:-//Tukios.com/
BEGIN:VEVENT
UID:11bf566c-2983-4ce0-9f64-9785d5ea7a6d@www.commercefuneralhome.com
DTSTAMP:20260420T060450Z
DTSTART:20260424T180000Z
DTEND:20260424T190000Z
SUMMARY:Funeral Service
DESCRIPTION:
URL:https://www.commercefuneralhome.com/obituaries/alec-kao
LOCATION: 1505 Washington St  Commerce TX 75428
GEO:33.2479079;-95.9008726
END:VEVENT
END:VCALENDAR