BEGIN:VCALENDAR
VERSION:2.0
PRODID:-//Tukios.com/
BEGIN:VEVENT
UID:ee6d0686-ef31-4654-9b4e-1f14c419c6d3@www.commercefuneralhome.com
DTSTAMP:20260420T060541Z
DTSTART:20260424T193000Z
DTEND:20260424T203000Z
SUMMARY:Burial
DESCRIPTION:
URL:https://www.commercefuneralhome.com/obituaries/alec-kao
LOCATION: 6639 CR 4705  Fairlie TX 75428
GEO:33.3090271;-95.9373384
END:VEVENT
END:VCALENDAR